BEGIN:VCALENDAR
VERSION:2.0
PRODID:-//Butler Tech//Internal Calendar//EN
CALSCALE:GREGORIAN
METHOD:PUBLISH
BEGIN:VEVENT
UID:15017@www.butlertech.org
DTSTAMP:20260421T043431Z
DTSTART;VALUE=DATE:20261116
DTEND;VALUE=DATE:20261117
SUMMARY:CDL Class B Evening Start
DESCRIPTION:CDL Class B Evening: 11-16-2026 &#8211\; 01-08-2027Mon-Thu 5pm-9pmPublic Safety Liberty Twp Campus\n\nhttps://www.butlertech.org/event/cdl-class-b-evening-start-23/
LOCATION:
URL:https://www.butlertech.org/event/cdl-class-b-evening-start-23/
END:VEVENT
END:VCALENDAR
