BEGIN:VCALENDAR
VERSION:2.0
PRODID:-//Butler Tech//Internal Calendar//EN
CALSCALE:GREGORIAN
METHOD:PUBLISH
BEGIN:VEVENT
UID:15018@www.butlertech.org
DTSTAMP:20260423T080856Z
DTSTART;VALUE=DATE:20261214
DTEND;VALUE=DATE:20261215
SUMMARY:CDL Class A Day Start
DESCRIPTION:CDL Class A Day: 12-14-2026 &#8211\; 01-21-2027Mon-Fri 8am-5pmPublic Safety Liberty Twp Campus\n\nhttps://www.butlertech.org/event/cdl-class-a-day-start-75/
LOCATION:
URL:https://www.butlertech.org/event/cdl-class-a-day-start-75/
END:VEVENT
END:VCALENDAR
