BEGIN:VCALENDAR
VERSION:2.0
PRODID:-//Butler Tech//Internal Calendar//EN
CALSCALE:GREGORIAN
METHOD:PUBLISH
BEGIN:VEVENT
UID:15023@www.butlertech.org
DTSTAMP:20260421T042428Z
DTSTART;VALUE=DATE:20270208
DTEND;VALUE=DATE:20270209
SUMMARY:CDL Class A Day Start
DESCRIPTION:CDL Class A Day: 02-08-2027 &#8211\; 03-12-2027Mon-Fri 8am-5pmPublic Safety Liberty Twp Campus\n\nhttps://www.butlertech.org/event/cdl-class-a-day-start-77/
LOCATION:
URL:https://www.butlertech.org/event/cdl-class-a-day-start-77/
END:VEVENT
END:VCALENDAR
