BEGIN:VCALENDAR
VERSION:2.0
PRODID:-//Butler Tech//Internal Calendar//EN
CALSCALE:GREGORIAN
METHOD:PUBLISH
BEGIN:VEVENT
UID:15025@www.butlertech.org
DTSTAMP:20260421T042443Z
DTSTART;VALUE=DATE:20270308
DTEND;VALUE=DATE:20270309
SUMMARY:CDL Class A Day Start
DESCRIPTION:CDL Class A Day: 03-08-2027 &#8211\; 04-09-2027Mon-Fri 8am-5pmPublic Safety Liberty Twp Campus\n\nhttps://www.butlertech.org/event/cdl-class-a-day-start-78/
LOCATION:
URL:https://www.butlertech.org/event/cdl-class-a-day-start-78/
END:VEVENT
END:VCALENDAR
