BEGIN:VCALENDAR
VERSION:2.0
PRODID:-//Butler Tech//Internal Calendar//EN
CALSCALE:GREGORIAN
METHOD:PUBLISH
BEGIN:VEVENT
UID:15035@www.butlertech.org
DTSTAMP:20260422T010405Z
DTSTART:20260506T180000Z
DTEND:20260506T190000Z
SUMMARY:EMT Commencement
DESCRIPTION:Butler Tech Adult Education celebrates the January 2026 EMT cohort&#8217\;s graduation from the program.\n\nhttps://www.butlertech.org/event/emt-commencement/
LOCATION:Public Safety Education Complex (PSEC)
URL:https://www.butlertech.org/event/emt-commencement/
END:VEVENT
END:VCALENDAR
