BEGIN:VCALENDAR
VERSION:2.0
PRODID:-//Butler Tech//Internal Calendar//EN
CALSCALE:GREGORIAN
METHOD:PUBLISH
BEGIN:VEVENT
UID:15039@www.butlertech.org
DTSTAMP:20260422T012206Z
DTSTART:20260421T000000Z
DTEND:20260421T000000Z
SUMMARY:Paramedic Commencement
DESCRIPTION:Butler Tech Adult Education celebrates the July 2025 Paramedic cohort’s graduation.\n\nhttps://www.butlertech.org/event/paramedic-commencement/
LOCATION:Public Safety Education Complex (PSEC)
URL:https://www.butlertech.org/event/paramedic-commencement/
END:VEVENT
END:VCALENDAR
