BEGIN:VCALENDAR
VERSION:2.0
PRODID:-//Butler Tech//Internal Calendar//EN
CALSCALE:GREGORIAN
METHOD:PUBLISH
BEGIN:VEVENT
UID:15135@www.butlertech.org
DTSTAMP:20260425T015840Z
DTSTART;VALUE=DATE:20270322
DTEND;VALUE=DATE:20270323
SUMMARY:CDL Class B Evening Start
DESCRIPTION:CDL Class B Evening: 03-22-2027 &#8211\; 05-11-2027Mon-Thu 5pm-9pm\n\nhttps://www.butlertech.org/event/cdl-class-b-evening-start-24/
LOCATION:
URL:https://www.butlertech.org/event/cdl-class-b-evening-start-24/
END:VEVENT
END:VCALENDAR
