BEGIN:VCALENDAR
VERSION:2.0
PRODID:-//Butler Tech//Internal Calendar//EN
CALSCALE:GREGORIAN
METHOD:PUBLISH
BEGIN:VEVENT
UID:15136@www.butlertech.org
DTSTAMP:20260425T020351Z
DTSTART;VALUE=DATE:20270607
DTEND;VALUE=DATE:20270608
SUMMARY:CDL Class A Evening Start
DESCRIPTION:CDL Class A Evening: 06-07-2027 &#8211\; 09-01-2027Mon-Thu 5pm-9pm\n\nhttps://www.butlertech.org/event/cdl-class-a-evening-start-33/
LOCATION:
URL:https://www.butlertech.org/event/cdl-class-a-evening-start-33/
END:VEVENT
END:VCALENDAR
