BEGIN:VCALENDAR
VERSION:2.0
PRODID:-//Butler Tech//Internal Calendar//EN
CALSCALE:GREGORIAN
METHOD:PUBLISH
BEGIN:VEVENT
UID:2782@www.butlertech.org
DTSTAMP:20260419T144222Z
DTSTART;VALUE=DATE:20211025
DTEND;VALUE=DATE:20211026
SUMMARY:EMT Refresher Start
DESCRIPTION:EMT Refresher: 10-25-2021 &#8211\; 11-17-2021Mon/Wed 6pm-10pmPublic Safety Liberty Twp Campus\n\nhttps://www.butlertech.org/event/emt-refresher-start/
LOCATION:
URL:https://www.butlertech.org/event/emt-refresher-start/
END:VEVENT
END:VCALENDAR
