BEGIN:VCALENDAR
VERSION:2.0
PRODID:-//Butler Tech//Internal Calendar//EN
CALSCALE:GREGORIAN
METHOD:PUBLISH
BEGIN:VEVENT
UID:3051@www.butlertech.org
DTSTAMP:20260420T143227Z
DTSTART;VALUE=DATE:20220120
DTEND;VALUE=DATE:20220121
SUMMARY:Practical Nursing (LPN) Start
DESCRIPTION:Practical Nursing (LPN): 01-20-2022 &#8211\; 01-06-2023Mon-Fri 8am-3:30pmLeSourdsville Campus\n\nhttps://www.butlertech.org/event/practical-nursing-lpn-start-2/
LOCATION:
URL:https://www.butlertech.org/event/practical-nursing-lpn-start-2/
END:VEVENT
END:VCALENDAR
