BEGIN:VCALENDAR
VERSION:2.0
PRODID:-//Butler Tech//Internal Calendar//EN
CALSCALE:GREGORIAN
METHOD:PUBLISH
BEGIN:VEVENT
UID:3688@www.butlertech.org
DTSTAMP:20260421T042222Z
DTSTART;VALUE=DATE:20210726
DTEND;VALUE=DATE:20210727
SUMMARY:CDL Class B Day Start
DESCRIPTION:CDL Class B Day: 07-26-2021 &#8211\; 08-13-2021Mon-Fri 8am-5pmPublic Safety Liberty Twp Campus\n\nhttps://www.butlertech.org/event/cdl-class-b-day-start-3/
LOCATION:
URL:https://www.butlertech.org/event/cdl-class-b-day-start-3/
END:VEVENT
END:VCALENDAR
