BEGIN:VCALENDAR
VERSION:2.0
PRODID:-//Butler Tech//Internal Calendar//EN
CALSCALE:GREGORIAN
METHOD:PUBLISH
BEGIN:VEVENT
UID:6295@www.butlertech.org
DTSTAMP:20260420T101421Z
DTSTART;VALUE=DATE:20230324
DTEND;VALUE=DATE:20230325
SUMMARY:Fifth Day Experience
DESCRIPTION:https://www.butlertech.org/event/fifth-day-experience-13/
LOCATION:
URL:https://www.butlertech.org/event/fifth-day-experience-13/
END:VEVENT
END:VCALENDAR
