BEGIN:VCALENDAR
VERSION:2.0
PRODID:-//Butler Tech//Internal Calendar//EN
CALSCALE:GREGORIAN
METHOD:PUBLISH
BEGIN:VEVENT
UID:8257@www.butlertech.org
DTSTAMP:20260421T170208Z
DTSTART;VALUE=DATE:20240311
DTEND;VALUE=DATE:20240312
SUMMARY:HVAC/R Evening Start
DESCRIPTION:Currently a Waiting List HVAC/R Evening: 03-11-2024 &#8211\; 02-17-2025Mon-Thurs\, occassional Friday 5:30pm -9:30pmLeSourdsville Campus\n\nhttps://www.butlertech.org/event/hvac-r-evening-start-4/
LOCATION:
URL:https://www.butlertech.org/event/hvac-r-evening-start-4/
END:VEVENT
END:VCALENDAR
