BEGIN:VCALENDAR
VERSION:2.0
PRODID:-//Butler Tech//Internal Calendar//EN
CALSCALE:GREGORIAN
METHOD:PUBLISH
BEGIN:VEVENT
UID:8938@www.butlertech.org
DTSTAMP:20260421T044607Z
DTSTART:20231121T170000Z
DTEND:20231121T180000Z
SUMMARY:Meeting Notice: Legislative Meeting
DESCRIPTION:There will be a Legislative Committee Meeting on Tuesday\, November 21st at 5:00 p.m. prior to the regularly scheduled Board of Education meeting at the Butler Tech Central Office.\n\nhttps://www.butlertech.org/event/meeting-notice-legislative-meeting/
LOCATION:
URL:https://www.butlertech.org/event/meeting-notice-legislative-meeting/
END:VEVENT
END:VCALENDAR
