BEGIN:VCALENDAR
VERSION:2.0
PRODID:-//Butler Tech//Internal Calendar//EN
CALSCALE:GREGORIAN
METHOD:PUBLISH
BEGIN:VEVENT
UID:9160@www.butlertech.org
DTSTAMP:20260419T144649Z
DTSTART;VALUE=DATE:20240408
DTEND;VALUE=DATE:20240409
SUMMARY:Butler Tech closed on April 8\, 2024\, for Solar Eclipse
DESCRIPTION:Butler Tech closed on April 8\, 2024\, for Solar Eclipse On April 8\, 2024\, Butler Tech will be closed due to the total solar eclipse that will pass over our [&hellip\;]\n\nhttps://www.butlertech.org/event/butler-tech-closed-on-april-8-2024-for-solar-eclipse/
LOCATION:
URL:https://www.butlertech.org/event/butler-tech-closed-on-april-8-2024-for-solar-eclipse/
END:VEVENT
END:VCALENDAR
