BEGIN:VCALENDAR
VERSION:2.0
PRODID:-//Butler Tech//Internal Calendar//EN
CALSCALE:GREGORIAN
METHOD:PUBLISH
BEGIN:VEVENT
UID:9388@www.butlertech.org
DTSTAMP:20260420T144221Z
DTSTART;VALUE=DATE:20240708
DTEND;VALUE=DATE:20240709
SUMMARY:Basic Peace Officer Academy Start
DESCRIPTION:Basic Peace Officer Academy: 07-08-2024 &#8211\; 11-20-2024Mon-Fri 8am-5pmPublic Safety Liberty Twp Campus\n\nhttps://www.butlertech.org/event/basic-peace-officer-academy-start-7/
LOCATION:
URL:https://www.butlertech.org/event/basic-peace-officer-academy-start-7/
END:VEVENT
END:VCALENDAR
